BEGIN:VCALENDAR
VERSION:2.0
PRODID:-//Finance Leadership Forum - ECPv6.15.14//NONSGML v1.0//EN
CALSCALE:GREGORIAN
METHOD:PUBLISH
X-WR-CALNAME:Finance Leadership Forum
X-ORIGINAL-URL:https://financeleadershipforum.org
X-WR-CALDESC:Events for Finance Leadership Forum
REFRESH-INTERVAL;VALUE=DURATION:PT1H
X-Robots-Tag:noindex
X-PUBLISHED-TTL:PT1H
BEGIN:VTIMEZONE
TZID:UTC
BEGIN:STANDARD
TZOFFSETFROM:+0000
TZOFFSETTO:+0000
TZNAME:UTC
DTSTART:20220101T000000
END:STANDARD
END:VTIMEZONE
BEGIN:VEVENT
DTSTART;TZID=UTC:20230708T100000
DTEND;TZID=UTC:20230708T120000
DTSTAMP:20260423T120703
CREATED:20230617T164829Z
LAST-MODIFIED:20230617T164954Z
UID:460-1688810400-1688817600@financeleadershipforum.org
SUMMARY:Breakfast Session - The Gambia
DESCRIPTION:Join us for an exceptional event focused on building high-performing finance teams led by an esteemed facilitator who embodies expertise\, vision\, and leadership. \nWith extensive experience in the finance industry and a proven track record of success\, our facilitator brings unparalleled insights into what it takes to cultivate a finance team that achieves excellence. Drawing from his experiences and industry knowledge\, Ebrima will provide invaluable strategies\, practical tips\, and actionable advice to empower you to create and nurture a high-performing finance team. \nDon’t miss this exclusive opportunity to learn from a distinguished CFO\, author\, and President of FLF and discover the secrets to building a high-performing finance team. Be part of this transformative event that will unlock the potential of your finance team and set the stage for unparalleled success in your organization.
URL:https://financeleadershipforum.org/event/breakfast-session-the-gambia/
LOCATION:In Person\, To be confirm\, Gambia
CATEGORIES:In Person Event
ATTACH;FMTTYPE=image/png:https://financeleadershipforum.org/wp-content/uploads/2023/06/Building-a-High-Performing-Finance-Team-e1687020476539.png
END:VEVENT
END:VCALENDAR